BEGIN:VCALENDAR
VERSION:2.0
PRODID:-//Santa&#039;s Village Dundee - ECPv6.7.0//NONSGML v1.0//EN
CALSCALE:GREGORIAN
METHOD:PUBLISH
X-ORIGINAL-URL:https://santasvillagedundee.com
X-WR-CALDESC:Events for Santa&#039;s Village Dundee
REFRESH-INTERVAL;VALUE=DURATION:PT1H
X-Robots-Tag:noindex
X-PUBLISHED-TTL:PT1H
BEGIN:VTIMEZONE
TZID:America/Chicago
BEGIN:DAYLIGHT
TZOFFSETFROM:-0600
TZOFFSETTO:-0500
TZNAME:CDT
DTSTART:20250309T080000
END:DAYLIGHT
BEGIN:STANDARD
TZOFFSETFROM:-0500
TZOFFSETTO:-0600
TZNAME:CST
DTSTART:20251102T070000
END:STANDARD
END:VTIMEZONE
BEGIN:VEVENT
DTSTART;TZID=America/Chicago:20251018T110000
DTEND;TZID=America/Chicago:20251018T180000
DTSTAMP:20260420T123200
CREATED:20251013T151855Z
LAST-MODIFIED:20251013T151855Z
UID:15302-1760785200-1760810400@santasvillagedundee.com
SUMMARY:Pumpkin Patch and Fall Festival
DESCRIPTION:   \nSanta’s Village Pumpkin Patch & Fall Festival Weekends in September and October | 11 AM – 6 PM \nEnjoy the Amusement Park and Petting Zoo plus special fall-only attractions including the Pumpkin Patch\, Corn Play Pit\, Spooky Houses\, Harvest Menu\, and more!  \n Unlimited visits included with a Santa’s Village Season Pass.
URL:https://santasvillagedundee.com/event/pumpkin-patch-and-fall-festival-3/
END:VEVENT
END:VCALENDAR