BEGIN:VCALENDAR
VERSION:2.0
PRODID:-//Santa&#039;s Village Dundee - ECPv6.7.0//NONSGML v1.0//EN
CALSCALE:GREGORIAN
METHOD:PUBLISH
X-ORIGINAL-URL:https://santasvillagedundee.com
X-WR-CALDESC:Events for Santa&#039;s Village Dundee
REFRESH-INTERVAL;VALUE=DURATION:PT1H
X-Robots-Tag:noindex
X-PUBLISHED-TTL:PT1H
BEGIN:VTIMEZONE
TZID:America/Chicago
BEGIN:DAYLIGHT
TZOFFSETFROM:-0600
TZOFFSETTO:-0500
TZNAME:CDT
DTSTART:20240310T080000
END:DAYLIGHT
BEGIN:STANDARD
TZOFFSETFROM:-0500
TZOFFSETTO:-0600
TZNAME:CST
DTSTART:20241103T070000
END:STANDARD
END:VTIMEZONE
BEGIN:VEVENT
DTSTART;TZID=America/Chicago:20241212T170000
DTEND;TZID=America/Chicago:20241212T210000
DTSTAMP:20260419T213737
CREATED:20241203T205031Z
LAST-MODIFIED:20241203T205031Z
UID:14325-1734022800-1734037200@santasvillagedundee.com
SUMMARY:Magical Christmas Drive Thru
DESCRIPTION:Select nights November 29th – December 29th\n\n\n\n\nStarting at $35 per vehicle! \nSeason Pass Holders Receive $5.00 off \nEach vehicle receives ONE Santa photo opportunity.   \nVehicle occupants cannot split-up for their Santa photo visit. \n \n\nSanta Visits will run thru December 23rd ONLY\nONLINE RESERVATIONS ARE REQUIRED.\nTICKETS WILL NOT BE AVAILABLE AT THE GATE. \nDOGS AND OTHER ANIMALS ARE NOT ALLOWED OUT OF VEHICLES. \nVEHICLE OCCUPANTS MUST BE LEGALLY SEATED IN THE VEHICLE AT ALL TIMES
URL:https://santasvillagedundee.com/event/magical-christmas-drive-thru-5/
END:VEVENT
BEGIN:VEVENT
DTSTART;TZID=America/Chicago:20241213T170000
DTEND;TZID=America/Chicago:20241213T220000
DTSTAMP:20260419T213737
CREATED:20241203T211149Z
LAST-MODIFIED:20241203T211149Z
UID:14341-1734109200-1734127200@santasvillagedundee.com
SUMMARY:Magical Christmas Drive Thru
DESCRIPTION:Select nights November 29th – December 29th\n\n\n\n\nStarting at $35 per vehicle! \nSeason Pass Holders Receive $5.00 off \nEach vehicle receives ONE Santa photo opportunity.   \nVehicle occupants cannot split-up for their Santa photo visit. \n \n\nSanta Visits will run thru December 23rd ONLY\nONLINE RESERVATIONS ARE REQUIRED.\nTICKETS WILL NOT BE AVAILABLE AT THE GATE. \nDOGS AND OTHER ANIMALS ARE NOT ALLOWED OUT OF VEHICLES. \nVEHICLE OCCUPANTS MUST BE LEGALLY SEATED IN THE VEHICLE AT ALL TIMES
URL:https://santasvillagedundee.com/event/magical-christmas-drive-thru-9/
END:VEVENT
BEGIN:VEVENT
DTSTART;TZID=America/Chicago:20241215T170000
DTEND;TZID=America/Chicago:20241215T210000
DTSTAMP:20260419T213737
CREATED:20241214T212127Z
LAST-MODIFIED:20241214T212127Z
UID:14375-1734282000-1734296400@santasvillagedundee.com
SUMMARY:Magical Christmas Drive Thru
DESCRIPTION:Select nights November 29th – December 29th\n\n\n\n\nStarting at $35 per vehicle! \nSeason Pass Holders Receive $5.00 off \nEach vehicle receives ONE Santa photo opportunity.   \nVehicle occupants cannot split-up for their Santa photo visit. \n \n\nSanta Visits will run thru December 23rd ONLY\nONLINE RESERVATIONS ARE REQUIRED.\nTICKETS WILL NOT BE AVAILABLE AT THE GATE. \nDOGS AND OTHER ANIMALS ARE NOT ALLOWED OUT OF VEHICLES. \nVEHICLE OCCUPANTS MUST BE LEGALLY SEATED IN THE VEHICLE AT ALL TIMES
URL:https://santasvillagedundee.com/event/magical-christmas-drive-thru-12/
END:VEVENT
BEGIN:VEVENT
DTSTART;TZID=America/Chicago:20241218T170000
DTEND;TZID=America/Chicago:20241218T210000
DTSTAMP:20260419T213737
CREATED:20241215T013906Z
LAST-MODIFIED:20241215T014002Z
UID:14377-1734541200-1734555600@santasvillagedundee.com
SUMMARY:Magical Christmas Drive Thru
DESCRIPTION:Select nights November 29th – December 29th\n\n\n\n\nStarting at $35 per vehicle! \nSeason Pass Holders Receive $5.00 off \nEach vehicle receives ONE Santa photo opportunity.   \nVehicle occupants cannot split-up for their Santa photo visit. \n \n\nSanta Visits will run thru December 23rd ONLY\nONLINE RESERVATIONS ARE REQUIRED.\nTICKETS WILL NOT BE AVAILABLE AT THE GATE. \nDOGS AND OTHER ANIMALS ARE NOT ALLOWED OUT OF VEHICLES. \nVEHICLE OCCUPANTS MUST BE LEGALLY SEATED IN THE VEHICLE AT ALL TIMES
URL:https://santasvillagedundee.com/event/magical-christmas-drive-thru-13/
END:VEVENT
BEGIN:VEVENT
DTSTART;TZID=America/Chicago:20241219T170000
DTEND;TZID=America/Chicago:20241219T210000
DTSTAMP:20260419T213737
CREATED:20241203T205157Z
LAST-MODIFIED:20241203T205506Z
UID:14327-1734627600-1734642000@santasvillagedundee.com
SUMMARY:Magical Christmas Drive Thru
DESCRIPTION:Select nights November 29th – December 29th\n\n\n\n\nStarting at $35 per vehicle! \nSeason Pass Holders Receive $5.00 off \nEach vehicle receives ONE Santa photo opportunity.   \nVehicle occupants cannot split-up for their Santa photo visit. \n \n\nSanta Visits will run thru December 23rd ONLY\nONLINE RESERVATIONS ARE REQUIRED.\nTICKETS WILL NOT BE AVAILABLE AT THE GATE. \nDOGS AND OTHER ANIMALS ARE NOT ALLOWED OUT OF VEHICLES. \nVEHICLE OCCUPANTS MUST BE LEGALLY SEATED IN THE VEHICLE AT ALL TIMES
URL:https://santasvillagedundee.com/event/magical-christmas-drive-thru-6/
END:VEVENT
BEGIN:VEVENT
DTSTART;TZID=America/Chicago:20241222T170000
DTEND;TZID=America/Chicago:20241222T210000
DTSTAMP:20260419T213737
CREATED:20241203T211235Z
LAST-MODIFIED:20241203T211235Z
UID:14343-1734886800-1734901200@santasvillagedundee.com
SUMMARY:Magical Christmas Drive Thru
DESCRIPTION:Select nights November 29th – December 29th\n\n\n\n\nStarting at $35 per vehicle! \nSeason Pass Holders Receive $5.00 off \nEach vehicle receives ONE Santa photo opportunity.   \nVehicle occupants cannot split-up for their Santa photo visit. \n \n\nSanta Visits will run thru December 23rd ONLY\nONLINE RESERVATIONS ARE REQUIRED.\nTICKETS WILL NOT BE AVAILABLE AT THE GATE. \nDOGS AND OTHER ANIMALS ARE NOT ALLOWED OUT OF VEHICLES. \nVEHICLE OCCUPANTS MUST BE LEGALLY SEATED IN THE VEHICLE AT ALL TIMES
URL:https://santasvillagedundee.com/event/magical-christmas-drive-thru-10/
END:VEVENT
BEGIN:VEVENT
DTSTART;TZID=America/Chicago:20241223T170000
DTEND;TZID=America/Chicago:20241223T210000
DTSTAMP:20260419T213737
CREATED:20241203T205616Z
LAST-MODIFIED:20241203T205616Z
UID:14330-1734973200-1734987600@santasvillagedundee.com
SUMMARY:Magical Christmas Drive Thru
DESCRIPTION:Select nights November 29th – December 29th\n\n\n\n\nStarting at $35 per vehicle! \nSeason Pass Holders Receive $5.00 off \nEach vehicle receives ONE Santa photo opportunity.   \nVehicle occupants cannot split-up for their Santa photo visit. \n \n\nSanta Visits will run thru December 23rd ONLY\nONLINE RESERVATIONS ARE REQUIRED.\nTICKETS WILL NOT BE AVAILABLE AT THE GATE. \nDOGS AND OTHER ANIMALS ARE NOT ALLOWED OUT OF VEHICLES. \nVEHICLE OCCUPANTS MUST BE LEGALLY SEATED IN THE VEHICLE AT ALL TIMES
URL:https://santasvillagedundee.com/event/magical-christmas-drive-thru-7/
END:VEVENT
BEGIN:VEVENT
DTSTART;TZID=America/Chicago:20241226T170000
DTEND;TZID=America/Chicago:20241226T210000
DTSTAMP:20260419T213737
CREATED:20241203T205805Z
LAST-MODIFIED:20241203T205805Z
UID:14332-1735232400-1735246800@santasvillagedundee.com
SUMMARY:Magical Christmas Drive Thru
DESCRIPTION:Select nights November 29th – December 29th\n\n\n\n\nStarting at $35 per vehicle! \nSeason Pass Holders Receive $5.00 off \nEach vehicle receives ONE Santa photo opportunity.   \nVehicle occupants cannot split-up for their Santa photo visit. \n \n\nSanta Visits will run thru December 23rd ONLY\nONLINE RESERVATIONS ARE REQUIRED.\nTICKETS WILL NOT BE AVAILABLE AT THE GATE. \nDOGS AND OTHER ANIMALS ARE NOT ALLOWED OUT OF VEHICLES. \nVEHICLE OCCUPANTS MUST BE LEGALLY SEATED IN THE VEHICLE AT ALL TIMES
URL:https://santasvillagedundee.com/event/magical-christmas-drive-thru-8/
END:VEVENT
BEGIN:VEVENT
DTSTART;TZID=America/Chicago:20241227T170000
DTEND;TZID=America/Chicago:20241227T210000
DTSTAMP:20260419T213737
CREATED:20241203T211355Z
LAST-MODIFIED:20241220T185927Z
UID:14345-1735318800-1735333200@santasvillagedundee.com
SUMMARY:Magical Christmas Drive Thru
DESCRIPTION:Select nights November 29th – December 29th\n\n\n\n\nStarting at $35 per vehicle! \nSeason Pass Holders Receive $5.00 off \nEach vehicle receives ONE Santa photo opportunity.   \nVehicle occupants cannot split-up for their Santa photo visit. \n \n\nSanta Visits will run thru December 23rd ONLY\nONLINE RESERVATIONS ARE REQUIRED.\nTICKETS WILL NOT BE AVAILABLE AT THE GATE. \nDOGS AND OTHER ANIMALS ARE NOT ALLOWED OUT OF VEHICLES. \nVEHICLE OCCUPANTS MUST BE LEGALLY SEATED IN THE VEHICLE AT ALL TIMES
URL:https://santasvillagedundee.com/event/magical-christmas-drive-thru-11/
END:VEVENT
BEGIN:VEVENT
DTSTART;TZID=America/Chicago:20241228T170000
DTEND;TZID=America/Chicago:20241228T210000
DTSTAMP:20260419T213737
CREATED:20241203T201847Z
LAST-MODIFIED:20241220T185735Z
UID:14320-1735405200-1735419600@santasvillagedundee.com
SUMMARY:Magical Christmas Drive Thru
DESCRIPTION:Select nights November 29th – December 29th\n\n\n\n\nStarting at $35 per vehicle! \nSeason Pass Holders Receive $5.00 off \nEach vehicle receives ONE Santa photo opportunity.   \nVehicle occupants cannot split-up for their Santa photo visit. \n \n\nSanta Visits will run thru December 23rd ONLY\nONLINE RESERVATIONS ARE REQUIRED.\nTICKETS WILL NOT BE AVAILABLE AT THE GATE. \nDOGS AND OTHER ANIMALS ARE NOT ALLOWED OUT OF VEHICLES. \nVEHICLE OCCUPANTS MUST BE LEGALLY SEATED IN THE VEHICLE AT ALL TIMES
URL:https://santasvillagedundee.com/event/magical-christmas-drive-thru-3/
END:VEVENT
BEGIN:VEVENT
DTSTART;TZID=America/Chicago:20241229T170000
DTEND;TZID=America/Chicago:20241229T210000
DTSTAMP:20260419T213737
CREATED:20241203T202322Z
LAST-MODIFIED:20241203T204917Z
UID:14323-1735491600-1735506000@santasvillagedundee.com
SUMMARY:Magical Christmas Drive Thru
DESCRIPTION:Select nights November 29th – December 29th\n\n\n\n\nStarting at $35 per vehicle! \nSeason Pass Holders Receive $5.00 off \nEach vehicle receives ONE Santa photo opportunity.   \nVehicle occupants cannot split-up for their Santa photo visit. \n \n\nSanta Visits will run thru December 23rd ONLY\nONLINE RESERVATIONS ARE REQUIRED.\nTICKETS WILL NOT BE AVAILABLE AT THE GATE. \nDOGS AND OTHER ANIMALS ARE NOT ALLOWED OUT OF VEHICLES. \nVEHICLE OCCUPANTS MUST BE LEGALLY SEATED IN THE VEHICLE AT ALL TIMES
URL:https://santasvillagedundee.com/event/magical-christmas-drive-thru-4/
END:VEVENT
END:VCALENDAR