BEGIN:VCALENDAR
VERSION:2.0
PRODID:-//Santa&#039;s Village Dundee - ECPv6.7.0//NONSGML v1.0//EN
CALSCALE:GREGORIAN
METHOD:PUBLISH
X-ORIGINAL-URL:https://santasvillagedundee.com
X-WR-CALDESC:Events for Santa&#039;s Village Dundee
REFRESH-INTERVAL;VALUE=DURATION:PT1H
X-Robots-Tag:noindex
X-PUBLISHED-TTL:PT1H
BEGIN:VTIMEZONE
TZID:America/Chicago
BEGIN:DAYLIGHT
TZOFFSETFROM:-0600
TZOFFSETTO:-0500
TZNAME:CDT
DTSTART:20250309T080000
END:DAYLIGHT
BEGIN:STANDARD
TZOFFSETFROM:-0500
TZOFFSETTO:-0600
TZNAME:CST
DTSTART:20251102T070000
END:STANDARD
END:VTIMEZONE
BEGIN:VEVENT
DTSTART;TZID=America/Chicago:20250201T190000
DTEND;TZID=America/Chicago:20250201T210000
DTSTAMP:20260420T043713
CREATED:20250128T165508Z
LAST-MODIFIED:20250128T165508Z
UID:14456-1738436400-1738443600@santasvillagedundee.com
SUMMARY:Polar Dome Public Skate
DESCRIPTION:        Public Skate at the Polar Dome\nCome out and lace up your skates for a fun evening of ice skating! \nJoin us every Saturday from 7:00 PM to 9:00 PM for Public Skate. \n Admission is just $12.00 per skater\, and skate rentals are available for $5.00. \nDon’t forget to stop by the Alpine Room for delicious food and a cozy spot to cheer on fellow skaters!
URL:https://santasvillagedundee.com/event/polar-dome-public-skate-2/2025-02-01/
END:VEVENT
BEGIN:VEVENT
DTSTART;TZID=America/Chicago:20250202T140000
DTEND;TZID=America/Chicago:20250202T160000
DTSTAMP:20260420T043713
CREATED:20250129T211515Z
LAST-MODIFIED:20250130T164001Z
UID:14537-1738504800-1738512000@santasvillagedundee.com
SUMMARY:Polar Dome Public Skate
DESCRIPTION:        Public Skate at the Polar Dome\nCome out and lace up your skates for a fun evening of ice skating! \nJoin us every Sunday from 2:00 PM to 4:00 PM for Public Skate. \n Admission is just $12.00 per skater\, and skate rentals are available for $5.00. \nDon’t forget to stop by the Alpine Room for delicious food and a cozy spot to cheer on fellow skaters!
URL:https://santasvillagedundee.com/event/polar-dome-public-skate-3/2025-02-02/
END:VEVENT
BEGIN:VEVENT
DTSTART;TZID=America/Chicago:20250223T140000
DTEND;TZID=America/Chicago:20250223T160000
DTSTAMP:20260420T043713
CREATED:20250129T211515Z
LAST-MODIFIED:20250227T201153Z
UID:14555-1740319200-1740326400@santasvillagedundee.com
SUMMARY:Polar Dome Public Skate
DESCRIPTION:        Public Skate at the Polar Dome\nCome out and lace up your skates for a fun evening of ice skating! \nJoin us every Sunday from 2:00 PM to 4:00 PM for Public Skate. \n Admission is just $12.00 per skater\, and skate rentals are available for $5.00. \nDon’t forget to stop by the Alpine Room for delicious food and a cozy spot to cheer on fellow skaters!
URL:https://santasvillagedundee.com/event/polar-dome-public-skate-3-2025-02-23/2025-02-23/
END:VEVENT
BEGIN:VEVENT
DTSTART;TZID=America/Chicago:20250228T190000
DTEND;TZID=America/Chicago:20250228T210000
DTSTAMP:20260420T043713
CREATED:20250128T161159Z
LAST-MODIFIED:20250227T200904Z
UID:14471-1740769200-1740776400@santasvillagedundee.com
SUMMARY:Polar Dome Public Skate
DESCRIPTION:Public Skate at the Polar Dome\nCome out and lace up your skates for a fun evening of ice skating! \nJoin us every Friday from 7:00 PM to 9:00 PM for Public Skate at the Polar Dome. \nAdmission is just $12.00 per skater\, and skate rentals are available for $5.00. \nDon’t forget to stop by the Alpine Room for delicious food and a cozy spot to cheer on fellow skaters!
URL:https://santasvillagedundee.com/event/polar-dome-public-skate-2025-02-28/2025-02-28/
END:VEVENT
END:VCALENDAR