BEGIN:VCALENDAR
VERSION:2.0
PRODID:-//Santa&#039;s Village Dundee - ECPv6.7.0//NONSGML v1.0//EN
CALSCALE:GREGORIAN
METHOD:PUBLISH
X-WR-CALNAME:Santa&#039;s Village Dundee
X-ORIGINAL-URL:https://santasvillagedundee.com
X-WR-CALDESC:Events for Santa&#039;s Village Dundee
REFRESH-INTERVAL;VALUE=DURATION:PT1H
X-Robots-Tag:noindex
X-PUBLISHED-TTL:PT1H
BEGIN:VTIMEZONE
TZID:America/Chicago
BEGIN:DAYLIGHT
TZOFFSETFROM:-0600
TZOFFSETTO:-0500
TZNAME:CDT
DTSTART:20250309T080000
END:DAYLIGHT
BEGIN:STANDARD
TZOFFSETFROM:-0500
TZOFFSETTO:-0600
TZNAME:CST
DTSTART:20251102T070000
END:STANDARD
END:VTIMEZONE
BEGIN:VEVENT
DTSTART;TZID=America/Chicago:20250605T100000
DTEND;TZID=America/Chicago:20250605T170000
DTSTAMP:20260420T043318
CREATED:20250428T195614Z
LAST-MODIFIED:20250428T195614Z
UID:14837-1749117600-1749142800@santasvillagedundee.com
SUMMARY:Season Pass Holder Bring A Friend FREE Day
DESCRIPTION:  \n  \n  \n  \n  \n \nToday is a BONUS Bring-a-Friend FREE Day for Season Pass Holders!Every season pass holder can bring one friend for FREE today. \nFree admission is valid only when the guest enters with the season pass holder at the gate. One free guest per pass holder. \nDates are subject to change without notice.
URL:https://santasvillagedundee.com/event/season-pass-holder-bring-a-friend-free-day-3/
END:VEVENT
BEGIN:VEVENT
DTSTART;TZID=America/Chicago:20250607T120000
DTEND;TZID=America/Chicago:20250607T150000
DTSTAMP:20260420T043318
CREATED:20250514T201612Z
LAST-MODIFIED:20250514T201612Z
UID:14949-1749297600-1749308400@santasvillagedundee.com
SUMMARY:Foam Party!
DESCRIPTION:  \n  \n  \n  \n  \n \nSanta’s Village Foam Party  \nJune 7th and 8th 12:00PM-3:00PM \nJump into the foam and have a blast at the Santa’s Village Foam Party!You will get messy—so maybe leave those brand-new shoes at home! \n  \nDates are subject to change without notice.
URL:https://santasvillagedundee.com/event/foam-party/
END:VEVENT
BEGIN:VEVENT
DTSTART;TZID=America/Chicago:20250608T110000
DTEND;TZID=America/Chicago:20250608T180000
DTSTAMP:20260420T043318
CREATED:20250428T195659Z
LAST-MODIFIED:20250428T195659Z
UID:14839-1749380400-1749405600@santasvillagedundee.com
SUMMARY:Season Pass Holder Bring A Friend FREE Day
DESCRIPTION:  \n  \n  \n  \n  \n \nToday is a BONUS Bring-a-Friend FREE Day for Season Pass Holders!Every season pass holder can bring one friend for FREE today. \nFree admission is valid only when the guest enters with the season pass holder at the gate. One free guest per pass holder. \nDates are subject to change without notice.
URL:https://santasvillagedundee.com/event/season-pass-holder-bring-a-friend-free-day-4/
END:VEVENT
BEGIN:VEVENT
DTSTART;TZID=America/Chicago:20250608T120000
DTEND;TZID=America/Chicago:20250608T150000
DTSTAMP:20260420T043318
CREATED:20250514T201741Z
LAST-MODIFIED:20250514T202549Z
UID:14952-1749384000-1749394800@santasvillagedundee.com
SUMMARY:Foam Party!
DESCRIPTION:  \n  \n  \n  \n  \n \nSanta’s Village Foam Party  \nJune 7th and 8th 12:00PM-3:00PM \nJump into the foam and have a blast at the Santa’s Village Foam Party!You will get messy—so maybe leave those brand-new shoes at home! \n  \nDates are subject to change without notice.
URL:https://santasvillagedundee.com/event/foam-party-2/
END:VEVENT
BEGIN:VEVENT
DTSTART;TZID=America/Chicago:20250615T110000
DTEND;TZID=America/Chicago:20250615T180000
DTSTAMP:20260420T043318
CREATED:20250611T192806Z
LAST-MODIFIED:20250611T192806Z
UID:15021-1749985200-1750010400@santasvillagedundee.com
SUMMARY:Father’s Day Special
DESCRIPTION:  \n \nFather’s Day Fun Starts Here!This Sunday 6/15/2025\, Dads who purchase a full-priced admission ticket will get a FREE return ticket — \nGood for any visit between June 17 and October 26! \n Full priced admission is $38.99 available on our website or at the ticket booth 
URL:https://santasvillagedundee.com/event/fathers-day-special/
END:VEVENT
BEGIN:VEVENT
DTSTART;TZID=America/Chicago:20250617T100000
DTEND;TZID=America/Chicago:20250617T170000
DTSTAMP:20260420T043318
CREATED:20250611T193629Z
LAST-MODIFIED:20250718T133726Z
UID:15025-1750154400-1750179600@santasvillagedundee.com
SUMMARY:Senior Tuesdays $29.99 for guests 55 and older
DESCRIPTION:Every Tuesday in June and July is Senior Day $29.99 for guests 55 and older \nValid only at the ticket booth and must provide ID
URL:https://santasvillagedundee.com/event/senior-tuesdays-29-99-for-guests-55-and-older/2025-06-17/
END:VEVENT
BEGIN:VEVENT
DTSTART;TZID=America/Chicago:20250621T110000
DTEND;TZID=America/Chicago:20250621T180000
DTSTAMP:20260420T043318
CREATED:20250611T205642Z
LAST-MODIFIED:20250611T205753Z
UID:15043-1750503600-1750528800@santasvillagedundee.com
SUMMARY:Touch a Truck
DESCRIPTION:  \n🚛 Touch-A-Truck Weekend! \nGet up close and personal with trucks\, tractors\, and more this Saturday & Sunday from 12–4PM — all included with admission!Dates and times subject to change without notice.
URL:https://santasvillagedundee.com/event/touch-a-truck-2/
END:VEVENT
BEGIN:VEVENT
DTSTART;TZID=America/Chicago:20250622T110000
DTEND;TZID=America/Chicago:20250622T180000
DTSTAMP:20260420T043318
CREATED:20250611T205953Z
LAST-MODIFIED:20250611T205953Z
UID:15046-1750590000-1750615200@santasvillagedundee.com
SUMMARY:Touch a Truck
DESCRIPTION:  \n🚛 Touch-A-Truck Weekend! \nGet up close and personal with trucks\, tractors\, and more this Saturday & Sunday from 12–4PM — all included with admission!Dates and times subject to change without notice.
URL:https://santasvillagedundee.com/event/touch-a-truck-3/
END:VEVENT
BEGIN:VEVENT
DTSTART;TZID=America/Chicago:20250624T100000
DTEND;TZID=America/Chicago:20250624T170000
DTSTAMP:20260420T043318
CREATED:20250611T193629Z
LAST-MODIFIED:20250611T193629Z
UID:15127-1750759200-1750784400@santasvillagedundee.com
SUMMARY:Senior Tuesdays $29.99 for guests 55 and older
DESCRIPTION:Every Tuesday in June and July is Senior Day $29.99 for guests 55 and older \nValid only at the ticket booth and must provide ID
URL:https://santasvillagedundee.com/event/senior-tuesdays-29-99-for-guests-55-and-older/2025-06-24/
END:VEVENT
END:VCALENDAR